BEGIN:VCALENDAR
VERSION:2.0
PRODID:icalendar-ruby
CALSCALE:GREGORIAN
METHOD:PUBLISH
BEGIN:VEVENT
DTSTAMP:20260425T150123Z
UID:25-192472@greenvalleychurch.com
DTSTART;VALUE=DATE:20260622
DTEND;VALUE=DATE:20260626
CLASS:PUBLIC
CREATED:20260419T083152
DESCRIPTION:Get ready for an awesome week at VBS! From games and music to h
 ands-on activities and Bible teaching\, it’s a place where kids can have
  fun and grow in their faith. Join us from 9 am - 12 pm June 22nd - June 2
 6th. SIgn up at the link below! 
LAST-MODIFIED:20260419T083152
LOCATION:
SUMMARY:VBS
URL;VALUE=URI:https://www.greenvalleychurch.com/events/vbs/2026-06-22
ATTACH;FILENAME=Illumination-Station.jpeg;FMTTYPE=image/jpeg:https://dq5pwp
 g1q8ru0.cloudfront.net/2026/04/19/15/31/17/441c6fd6-a239-47cd-a056-bd41979
 ec6d3/Illumination-Station.jpeg
END:VEVENT
END:VCALENDAR
