BEGIN:VCALENDAR
VERSION:2.0
PRODID:icalendar-ruby
CALSCALE:GREGORIAN
METHOD:PUBLISH
BEGIN:VEVENT
DTSTAMP:20260425T151053Z
UID:24-192470@greenvalleychurch.com
DTSTART:20260502T013000Z
DTEND:20260502T034500Z
CLASS:PUBLIC
CREATED:20260419T082422
DESCRIPTION:Come enjoy dessert and meaningful conversation at Joy in the J
 ourney\, a special evening for women. Together we’ll share laughter\, ma
 ke new connections\, and be reminded that joy is a gift we can discover in
  every season.
LAST-MODIFIED:20260419T082422
LOCATION:
SUMMARY:Joy in the Journey 
URL;VALUE=URI:https://www.greenvalleychurch.com/events/joy-in-the-journey/2
 026-05-01
ATTACH;FILENAME=Joy-in-the-Journey.jpg;FMTTYPE=image/jpeg:https://dq5pwpg1q
 8ru0.cloudfront.net/2026/04/05/15/39/42/e7fda004-eb98-454a-bb33-1110c987a0
 57/Joy-in-the-Journey.jpg
END:VEVENT
END:VCALENDAR
