BEGIN:VCALENDAR
VERSION:2.0
PRODID:icalendar-ruby
CALSCALE:GREGORIAN
METHOD:PUBLISH
BEGIN:VEVENT
DTSTAMP:20260425T150858Z
UID:26-192473@greenvalleychurch.com
DTSTART;VALUE=DATE:20260412
DTEND;VALUE=DATE:20260503
CLASS:PUBLIC
CREATED:20260419T083815
DESCRIPTION:Join us in serving our community by donating non-perishable foo
 d items. Items such as peanut butter\, canned foods\, soups\, fruits\, veg
 etables\, pasta\, and rice are all welcome. All donations will go to Commu
 nity Food Connection to support families in need.
LAST-MODIFIED:20260419T083815
LOCATION:
SUMMARY:Food Drive 
URL;VALUE=URI:https://www.greenvalleychurch.com/events/food-drive/2026-04-1
 2
ATTACH;FILENAME=food-drive-26.png;FMTTYPE=image/png:https://dq5pwpg1q8ru0.c
 loudfront.net/2026/04/19/15/38/15/fbbdd324-29c8-4123-9c38-93546f51dc68/foo
 d-drive-26.png
END:VEVENT
END:VCALENDAR
